BEGIN:VCALENDAR
VERSION:2.0
PRODID:-//eventon.com NONSGML v1.0//EN
CALSCALE:GREGORIAN
METHOD:PUBLISH
BEGIN:VEVENT
UID:69ed768cb94a2
DTSTAMP:20260426T022100Z
DTSTART:20180830T100000Z
DTEND:20180830T110000Z
LOCATION:
SUMMARY:Zomer-meditatie bijeenkomst
DESCRIPTION:Ook deze zomer is er weer gelegenheid om\,  negen zomermeditati
 es in het studiehuis van de SFM Koningslaan 6\,  1182 AV Amstelveen\,  bij 
 te wonen. Dit zijn open bijeenkomsten waaraan een ieder kan deelnemen die g
 raag in goed gezelschap wil mediteren. De eerste keer is op donderdagochten
 d 05-07-&#8217;18 en vervolgens iedere[..]\nhttps://filosofieenmeditatie.nl
 /events/zomer-meditatie-bijeenkomst-copy-6/
URL:https://filosofieenmeditatie.nl/events/zomer-meditatie-bijeenkomst-copy-6/
END:VEVENT
END:VCALENDAR