BEGIN:VCALENDAR
VERSION:2.0
PRODID:-//eventon.com NONSGML v1.0//EN
CALSCALE:GREGORIAN
METHOD:PUBLISH
BEGIN:VEVENT
UID:69ed513ad4fad
DTSTAMP:20260425T234146Z
DTSTART:20180715T160000Z
DTEND:20180720T143000Z
LOCATION:De Cynham\,  Egmond aan den Hoef Herenweg 270
SUMMARY:Yoga 5-daagse met Rene l'Ecluse en Rob de Ron
DESCRIPTION:Contactperso(o)n(en): Anja Horstman\,  email: ahorstman@zonnet.
 nl\nhttps://filosofieenmeditatie.nl/events/yoga-5-daagse-met-rene-lecluse-e
 n-rob-de-ron/
URL:https://filosofieenmeditatie.nl/events/yoga-5-daagse-met-rene-lecluse-en-rob-de-ron/
END:VEVENT
END:VCALENDAR