BEGIN:VCALENDAR
VERSION:2.0
PRODID:-//eventon.com NONSGML v1.0//EN
CALSCALE:GREGORIAN
METHOD:PUBLISH
BEGIN:VEVENT
UID:69ed3b475ce48
DTSTAMP:20260425T220807Z
DTSTART:20180722T160000Z
DTEND:20180728T133000Z
LOCATION:Retraitecentrum Le Domaine St. Antoine\,  Brognon\,  Noord-Frankrijk Rue de la rivière 22  08380 Brognon\,  Frankrijk
SUMMARY:Familieweek
DESCRIPTION:Deze week is speciaal georganiseerd om als gezin tot rust en ve
 rdieping te komen in een mooie omgeving. Aan de kinderen en aan de ouders w
 ordt een apart\,  op maat gesneden programma aangeboden. De kinderen krijge
 n (evenals de ouders) iedere dag filosofie die m.b.v. verhalen wordt verdui
 delijkt. Daarnaast wordt het[..]\nhttps://filosofieenmeditatie.nl/events/fa
 milieweek/
URL:https://filosofieenmeditatie.nl/events/familieweek/
END:VEVENT
END:VCALENDAR