BEGIN:VCALENDAR
VERSION:2.0
PRODID:-//eventon.com NONSGML v1.0//EN
CALSCALE:GREGORIAN
METHOD:PUBLISH
BEGIN:VEVENT
UID:69ed261bd79f7
DTSTAMP:20260425T203747Z
DTSTART:20180729T160000Z
DTEND:20180804T140000Z
LOCATION:Retraitecentrum Le Domaine St. Antoine\,  Brognon\,  Noord-Frankrijk Rue de la rivière 22  08380 Brognon\,  Frankrijk
SUMMARY:Filosofieweek 'Een betekenisvol leven'
DESCRIPTION:Steeds vaker klinkt de roep om zingeving en betekenis in versch
 illende geledingen van onze samenleving. Veel mensen zijn de verbinding kwi
 jtgeraakt met zichzelf en met de maatschappij als geheel. Er bestaat een dr
 ingende behoefte aan een stevig fundament\,  van waaruit mensen de uitdagin
 gen van deze tijd het hoofd kunnen bieden\, [..]\nhttps://filosofieenmedita
 tie.nl/events/filosofieweek-een-betekenisvol-leven/
URL:https://filosofieenmeditatie.nl/events/filosofieweek-een-betekenisvol-leven/
END:VEVENT
END:VCALENDAR