BEGIN:VCALENDAR
VERSION:2.0
PRODID:-//eventon.com NONSGML v1.0//EN
CALSCALE:GREGORIAN
METHOD:PUBLISH
BEGIN:VEVENT
UID:69ed0e24f3fb7
DTSTAMP:20260425T185532Z
DTSTART:20180805T160000Z
DTEND:20180811T133000Z
LOCATION:Retraitecentrum Le Domaine St. Antoine\,  Brognon\,  Noord-Frankrijk Rue de la rivière 22  08380 Brognon\,  Frankrijk
SUMMARY:Zang\,  dans en bezinning
DESCRIPTION:In de Zang Dans en Bezinningsweek zult u de ruimte krijgen om i
 n uw eigen tempo te ervaren wat muziek met u doet.  Het ZDB team begeleidt
  u naar diepere lagen in uzelf en staat garant voor een actief\,  intensief
  en ontspannen programma met: studie\,  filosofie in de praktijk\,  zang\, 
 [..]\nhttps://filosofieenmeditatie.nl/events/zang-dans-en-bezinning/
URL:https://filosofieenmeditatie.nl/events/zang-dans-en-bezinning/
END:VEVENT
END:VCALENDAR