BEGIN:VCALENDAR
VERSION:2.0
PRODID:-//eventon.com NONSGML v1.0//EN
CALSCALE:GREGORIAN
METHOD:PUBLISH
BEGIN:VEVENT
UID:69ecf9e7a9db2
DTSTAMP:20260425T172911Z
DTSTART:20180805T160000Z
DTEND:20180811T140000Z
LOCATION:Retraitecentrum Le Domaine St. Antoine\,  Brognon\,  Noord-Frankrijk Rue de la rivière 22  08380 Brognon\,  Frankrijk
SUMMARY:De mens in de Mahabharata: onze innerlijke houding
DESCRIPTION:In diverse spirituele tradities wordt gesproken over het belang
  van de innerlijke houding. Een zuivere innerlijke houding\,  of bhavana\, 
  wordt als een groot goed beschouwd. Maar wat ís onze innerlijke houding e
 igenlijk? Hoe kunnen we onze innerlijke houding ontdekken? Uit welke bronne
 n wordt onze innerlijke houding gevoed? Hoe kunnen we[..]\nhttps://filosofi
 eenmeditatie.nl/events/de-mens-in-de-mahabharata-onze-innerlijke-houding/
URL:https://filosofieenmeditatie.nl/events/de-mens-in-de-mahabharata-onze-innerlijke-houding/
END:VEVENT
END:VCALENDAR