BEGIN:VCALENDAR
VERSION:2.0
PRODID:-//eventon.com NONSGML v1.0//EN
CALSCALE:GREGORIAN
METHOD:PUBLISH
BEGIN:VEVENT
UID:69ece6a4e4f43
DTSTAMP:20260425T160700Z
DTSTART:20180819T160000Z
DTEND:20180825T140000Z
LOCATION:Retraitecentrum Le Domaine St. Antoine\,  Brognon\,  Noord-Frankrijk Rue de la rivière 22  08380 Brognon\,  Frankrijk
SUMMARY:Filosofieweek 'Ontspanning\,  concentratie en meditatie'
DESCRIPTION:De zomerretraites zijn één van de hoogtepunten die de SFM org
 aniseert. Deze week is een combinatie van filosofie\,  meditatie en lichaam
 swerk. Het is een week om even helemaal tot rust te komen en in je &#8216;e
 igen spiegel&#8217; te kijken. Ontspanning hoort aan de basis te liggen aan
  ieder werk. Lichaamswerk[..]\nhttps://filosofieenmeditatie.nl/events/filos
 ofieweek-ontspanning-concentratie-en-meditatie/
URL:https://filosofieenmeditatie.nl/events/filosofieweek-ontspanning-concentratie-en-meditatie/
END:VEVENT
END:VCALENDAR