BEGIN:VCALENDAR
VERSION:2.0
PRODID:-//eventon.com NONSGML v1.0//EN
CALSCALE:GREGORIAN
METHOD:PUBLISH
BEGIN:VEVENT
UID:69ecce6908792
DTSTAMP:20260425T142337Z
DTSTART:20180826T160000Z
DTEND:20180901T133000Z
LOCATION:Retraitecentrum Le Domaine St. Antoine\,  Brognon\,  Noord-Frankrijk Rue de la rivière 22  08380 Brognon\,  Frankrijk
SUMMARY:Kerngroepweek (Verdiepingsmodule)
DESCRIPTION:De week zal in het teken staan van een (nieuwe) upanishad\,  de
  Taittiriya-upanishad en wel deel 2 (Ananda valli) en deel 3 (Brighu valli)
 . Deel 2 beschrijft de leer van de vijf sluiers en deel 3 behandelt de vrag
 en van Brigu aan zijn vader Varuna. Het is een beeldschone meditatie[..]\nh
 ttps://filosofieenmeditatie.nl/events/kerngroepweek-verdiepingsmodule/
URL:https://filosofieenmeditatie.nl/events/kerngroepweek-verdiepingsmodule/
END:VEVENT
END:VCALENDAR