BEGIN:VCALENDAR
VERSION:2.0
PRODID:-//eventon.com NONSGML v1.0//EN
CALSCALE:GREGORIAN
METHOD:PUBLISH
BEGIN:VEVENT
UID:69ecb5d32d0df
DTSTAMP:20260425T123843Z
DTSTART:20180902T160000Z
DTEND:20180908T140000Z
LOCATION:Retraitecentrum Le Domaine St. Antoine\,  Brognon\,  Noord-Frankrijk Rue de la rivière 22  08380 Brognon\,  Frankrijk
SUMMARY:Sadhanaweek 'Het octaaf in het dagelijks leven'
DESCRIPTION:Centraal in deze week staat de studie van het Octaaf\,  ook wel
  de Wet van Zeven genoemd. Deze wet beschrijft heel precies hoe handelingen
  ontstaan en hoe zij verlopen (en lang niet altijd met aandacht begonnen wo
 rden of worden voltooid). Kennis en de toepassing van deze kennis (waar bij
  deze[..]\nhttps://filosofieenmeditatie.nl/events/sadhanaweek-het-octaaf-in
 -het-dagelijks-leven/
URL:https://filosofieenmeditatie.nl/events/sadhanaweek-het-octaaf-in-het-dagelijks-leven/
END:VEVENT
END:VCALENDAR