BEGIN:VCALENDAR
VERSION:2.0
PRODID:-//eventon.com NONSGML v1.0//EN
CALSCALE:GREGORIAN
METHOD:PUBLISH
BEGIN:VEVENT
UID:69ec9db8d3daf
DTSTAMP:20260425T105552Z
DTSTART:20180829T100000Z
DTEND:20180829T110000Z
LOCATION:De Cynham\,  Egmond aan den Hoef Herenweg 270
SUMMARY:Zomer-meditatie bijeenkomst
DESCRIPTION:Meditatie is een krachtige techniek. Regelmatige beoefening ver
 betert onze energiehuishouding en draagt op een positieve wijze bij aan een
  betere integrale gezondheid. Toch zal het zijn opgevallen dat meditatie me
 t elkaar een extra krachtige uitwerking heeft. Vandaar dat de SFM open medi
 taties organiseert. Iedereen kan deelnemen aan deze meditaties. Er[..]\nhtt
 ps://filosofieenmeditatie.nl/events/zomer-meditatie-bijeenkomst-12/
URL:https://filosofieenmeditatie.nl/events/zomer-meditatie-bijeenkomst-12/
END:VEVENT
END:VCALENDAR