BEGIN:VCALENDAR
VERSION:2.0
PRODID:-//eventon.com NONSGML v1.0//EN
CALSCALE:GREGORIAN
METHOD:PUBLISH
BEGIN:VEVENT
UID:69ec3acdba585
DTSTAMP:20260425T035349Z
DTSTART:20181104T090000Z
DTEND:20181104T160000Z
LOCATION:De Cynham\,  Egmond aan den Hoef Herenweg 270
SUMMARY:Studiedag de Filosofie achter de meditatie
DESCRIPTION:Meditatie bevordert je innerlijke rust en balans. Maar meditati
 e kan ons nog meer brengen. Dat wordt ons voorgehouden door de yoga-traditi
 e en het Boeddhisme. In deze studiedag onderzoeken we wat meditatie kan zij
 n\,  naast de natuurlijke en eenvoudige vorm die we al kennen. We dringen d
 iep door in het denken[..]\nhttps://filosofieenmeditatie.nl/events/studieda
 g-de-filosofie-achter-de-meditatie/
URL:https://filosofieenmeditatie.nl/events/studiedag-de-filosofie-achter-de-meditatie/
END:VEVENT
END:VCALENDAR