BEGIN:VCALENDAR
VERSION:2.0
PRODID:-//eventon.com NONSGML v1.0//EN
CALSCALE:GREGORIAN
METHOD:PUBLISH
BEGIN:VEVENT
UID:69ec238887be3
DTSTAMP:20260425T021432Z
DTSTART:20190316T090000Z
DTEND:20190316T153000Z
LOCATION:De Cynham\,  Egmond aan den Hoef Herenweg 270
SUMMARY:Studiedag 'Even op adem komen'
DESCRIPTION:Je adem is een soort spiegel waarin je jezelf kunt bekijke
 n. Hij reageert namelijk heel precies op je lichamelijke en geestelijke
  toestand. Je kunt je dus bewust worden van je lichaam en je geest do
 or te letten op je adem. Op deze studiedag oefenen we met de adem en ontdek
 ken we wat een prachtig instrument het lichaam is. Uiteindelijk helpt dez
 e bewustwording je om stevig op je benen te[..]\nhttps://filosofieenmedit
 atie.nl/events/even-op-adem-komen-2/
URL:https://filosofieenmeditatie.nl/events/even-op-adem-komen-2/
END:VEVENT
END:VCALENDAR