BEGIN:VCALENDAR
VERSION:2.0
PRODID:-//eventon.com NONSGML v1.0//EN
CALSCALE:GREGORIAN
METHOD:PUBLISH
BEGIN:VEVENT
UID:69ec0c770998a
DTSTAMP:20260425T003607Z
DTSTART:20181006T090000Z
DTEND:20181006T120000Z
LOCATION:De Cynham\,  Egmond aan den Hoef Herenweg 270
SUMMARY:Studieochtend Leerweg Verdiepingsgroep
DESCRIPTION:Voor de deelnemers aan de Verdiepingsgroep van de Leerweg Fil
 osofie en Meditatie zijn de volgende zaterdagochtenden en een weekend gepla
 nd: 6 oktober 2018 3 november 2018 Studieweekend 1-2 december 2018 2 februa
 ri 2019 2 maart 2019\nhttps://filosofieenmeditatie.nl/events/studieochtend-
 leerweg-verdiepingsgroep/
URL:https://filosofieenmeditatie.nl/events/studieochtend-leerweg-verdiepingsgroep/
END:VEVENT
END:VCALENDAR