BEGIN:VCALENDAR
VERSION:2.0
PRODID:-//eventon.com NONSGML v1.0//EN
CALSCALE:GREGORIAN
METHOD:PUBLISH
BEGIN:VEVENT
UID:69ebdce816769
DTSTAMP:20260424T211312Z
DTSTART:20190202T090000Z
DTEND:20190202T120000Z
LOCATION:De Cynham\,  Egmond aan den Hoef Herenweg 270
SUMMARY:Studieochtend Leerweg Verdiepingsgroep
DESCRIPTION:Voor de deelnemers aan de Verdiepingsgroep van de Leerweg Fil
 osofie en Meditatie zijn de volgende zaterdagochtenden en een weekend en e
 en retraiteweek gepland: 2 februari 2019 2 maart 2019 Studieweekend 6-7 apr
 il 2019 18 mei 2019 15 juni 2019 Retraiteweek 11-17 augustus 2019\nhttps://
 filosofieenmeditatie.nl/events/studieochtend-leerweg-verdiepingsgroep-3/
URL:https://filosofieenmeditatie.nl/events/studieochtend-leerweg-verdiepingsgroep-3/
END:VEVENT
END:VCALENDAR