BEGIN:VCALENDAR
VERSION:2.0
PRODID:-//eventon.com NONSGML v1.0//EN
CALSCALE:GREGORIAN
METHOD:PUBLISH
BEGIN:VEVENT
UID:69ebc5c716798
DTSTAMP:20260424T193431Z
DTSTART:20190302T090000Z
DTEND:20190302T120000Z
LOCATION:De Cynham\,  Egmond aan den Hoef Herenweg 270
SUMMARY:Studieochtend Leerweg Verdiepingsgroep
DESCRIPTION:Voor de deelnemers aan de Verdiepingsgroep van de Leerweg Fil
 osofie en Meditatie zijn de volgende zaterdagochtenden en een weekend gepla
 nd: 2 maart 2019 Studieweekend 6-7 april 2019 18 mei 2019 15 juni 2019 Retr
 aiteweek 11-17 augustus 2019\nhttps://filosofieenmeditatie.nl/events/studie
 ochtend-leerweg-verdiepingsgroep-copy/
URL:https://filosofieenmeditatie.nl/events/studieochtend-leerweg-verdiepingsgroep-copy/
END:VEVENT
END:VCALENDAR