BEGIN:VCALENDAR
VERSION:2.0
PRODID:-//eventon.com NONSGML v1.0//EN
CALSCALE:GREGORIAN
METHOD:PUBLISH
BEGIN:VEVENT
UID:69ebad6a8fb29
DTSTAMP:20260424T175034Z
DTSTART:20181201T090000Z
DTEND:20181202T160000Z
LOCATION:De Cynham\,  Egmond aan den Hoef Herenweg 270
SUMMARY:Weekend Leerweg Verdiepingsgroep
DESCRIPTION:Voor de deelnemers aan de Verdiepingsgroep van de Leerweg Fil
 osofie en Meditatie zijn de volgende zaterdagochtenden en een weekend gepla
 nd: Studieweekend 1-2 december 2018 2 februari 2019 2 maart 2019 Studieweek
 end 6-7 april 2019\nhttps://filosofieenmeditatie.nl/events/weekend-leerweg-
 verdiepingsgroep/
URL:https://filosofieenmeditatie.nl/events/weekend-leerweg-verdiepingsgroep/
END:VEVENT
END:VCALENDAR