BEGIN:VCALENDAR
VERSION:2.0
PRODID:-//eventon.com NONSGML v1.0//EN
CALSCALE:GREGORIAN
METHOD:PUBLISH
BEGIN:VEVENT
UID:69eb93225e4fa
DTSTAMP:20260424T155826Z
DTSTART:20180925T200000Z
DTEND:20180925T220000Z
LOCATION:
SUMMARY:Start Leerweg Filosofie en Meditatie (Amstelveen)
DESCRIPTION:De Leerweg De Leerweg van de Stichting Filososofie en Meditatie
  is een 4-jarig studieprogramma. We bestuderen de belangrijkste principes v
 an grote filosofische tradities: de Indiase vedanta en yoga\,  het Boeddhis
 me\,  het (vroege) Christendom\,  het Soefisme en werk uit de klassieke oud
 heid. We lezen teksten\,  maar er is meer dan theorie.[..]\nhttps://filosof
 ieenmeditatie.nl/events/start-leerweg-filosofie-en-meditatie/
URL:https://filosofieenmeditatie.nl/events/start-leerweg-filosofie-en-meditatie/
END:VEVENT
END:VCALENDAR