BEGIN:VCALENDAR
VERSION:2.0
PRODID:-//eventon.com NONSGML v1.0//EN
CALSCALE:GREGORIAN
METHOD:PUBLISH
BEGIN:VEVENT
UID:69eb7a4855b49
DTSTAMP:20260424T141224Z
DTSTART:20180924T200000Z
DTEND:20180924T220000Z
LOCATION:De Cynham\,  Egmond aan den Hoef Herenweg 270
SUMMARY:Start Leerweg Filosofie en Meditatie (Egmond aan den Hoef)
DESCRIPTION:De Leerweg De Leerweg van de Stichting Filososofie en Meditatie
  is een 4-jarig studieprogramma. We bestuderen de belangrijkste principes v
 an grote filosofische tradities: de Indiase vedanta en yoga\,  het Boeddhis
 me\,  het (vroege) Christendom\,  het Soefisme en werk uit de klassieke oud
 heid. We lezen teksten\,  maar er is meer dan theorie.[..]\nhttps://filosof
 ieenmeditatie.nl/events/start-leerweg-filosofie-en-meditatie-2/
URL:https://filosofieenmeditatie.nl/events/start-leerweg-filosofie-en-meditatie-2/
END:VEVENT
END:VCALENDAR