BEGIN:VCALENDAR
VERSION:2.0
PRODID:-//eventon.com NONSGML v1.0//EN
CALSCALE:GREGORIAN
METHOD:PUBLISH
BEGIN:VEVENT
UID:69eb79a73916d
DTSTAMP:20260424T140943Z
DTSTART:20181215T170000Z
DTEND:20181215T213000Z
LOCATION:De Cynham\,  Egmond aan den Hoef Herenweg 270
SUMMARY:Kerstdiner
DESCRIPTION:Het kerstdiner op de Cynham is een goede\,  warme traditie. We 
 komen bij elkaar om stil te staan bij de werkelijke betekenis van kerstmis\
 ,  om elkaar te ontmoeten en te inspireren. En natuurlijk te voeden. Er wor
 dt muziek gemaakt en er worden verhalen verteld. Iedereen is van harte welk
 om\,  ook[..]\nhttps://filosofieenmeditatie.nl/events/kerstdiner/
URL:https://filosofieenmeditatie.nl/events/kerstdiner/
END:VEVENT
END:VCALENDAR