BEGIN:VCALENDAR
VERSION:2.0
PRODID:-//eventon.com NONSGML v1.0//EN
CALSCALE:GREGORIAN
METHOD:PUBLISH
BEGIN:VEVENT
UID:69eb4efd94eb9
DTSTAMP:20260424T110741Z
DTSTART:20190203T090000Z
DTEND:20190203T160000Z
LOCATION:De Cynham\,  Egmond aan den Hoef Herenweg 270
SUMMARY:Studiedag Savitri het Boek van de Liefde
DESCRIPTION:Liefde is een superkracht; niet alleen in ons eigen leven maar 
 ook in de maatschappij. Hoe kunnen wij &#8211; en de wereld – in verbindi
 ng komen met dit enorme vermogen? Sri Aurobindo’s poëtische boek Savitri
  onderzoekt de vele facetten van liefde. We lezen hoe Prinses Savitri de jo
 nge Satyavan ontmoet[..]\nhttps://filosofieenmeditatie.nl/events/studiedag-
 savitri-het-boek-van-de-liefde/
URL:https://filosofieenmeditatie.nl/events/studiedag-savitri-het-boek-van-de-liefde/
END:VEVENT
END:VCALENDAR