BEGIN:VCALENDAR
VERSION:2.0
PRODID:-//eventon.com NONSGML v1.0//EN
CALSCALE:GREGORIAN
METHOD:PUBLISH
BEGIN:VEVENT
UID:69eb3823b4a11
DTSTAMP:20260424T093011Z
DTSTART:20190209T090000Z
DTEND:20190209T160000Z
LOCATION:De Cynham\,  Egmond aan den Hoef Herenweg 270
SUMMARY:Themadag: 'Bewust leven\,  bewust sterven'
DESCRIPTION:‘De dag dat wij geboren worden en de dag waarop wij sterven z
 ijn de belangrijkste dagen van ons leven’. Dat wordt ons voorgehouden in 
 een oud filosofisch geschrift. Het stervensproces is het thema van deze stu
 diedag. We praten over ons eigen sterven en de begeleiding van het sterven 
 van anderen.[..]\nhttps://filosofieenmeditatie.nl/events/themadag-bewust-le
 ven-bewust-sterven/
URL:https://filosofieenmeditatie.nl/events/themadag-bewust-leven-bewust-sterven/
END:VEVENT
END:VCALENDAR