BEGIN:VCALENDAR
VERSION:2.0
PRODID:-//eventon.com NONSGML v1.0//EN
CALSCALE:GREGORIAN
METHOD:PUBLISH
BEGIN:VEVENT
UID:69eb22b962c68
DTSTAMP:20260424T075849Z
DTSTART:20190106T160000Z
DTEND:20190106T183000Z
LOCATION:De Cynham\,  Egmond aan den Hoef Herenweg 270
SUMMARY:Nieuwjaarsreceptie
DESCRIPTION:De nieuwjaarsreceptie is het moment dat we elkaar weer opnieuw 
 ontmoeten in het nieuwe jaar. Het is ook het moment waarop het sociaal jaar
 verslag en de plannen van de SFM voor het nieuwe jaar worden gepresenteerd.
  De receptie is dit jaar op de eerste zondag van januari. Een ieder is[..]\
 nhttps://filosofieenmeditatie.nl/events/nieuwjaarsreceptie/
URL:https://filosofieenmeditatie.nl/events/nieuwjaarsreceptie/
END:VEVENT
END:VCALENDAR