BEGIN:VCALENDAR
VERSION:2.0
PRODID:-//eventon.com NONSGML v1.0//EN
CALSCALE:GREGORIAN
METHOD:PUBLISH
BEGIN:VEVENT
UID:69eb0d2a9d144
DTSTAMP:20260424T062650Z
DTSTART:20180928T200000Z
DTEND:20180928T213000Z
LOCATION:
SUMMARY:start De Bhagavad Gita over het mysterie van handelingen
DESCRIPTION:De Bhagavad Gita is een bijzondere\,  eeuwenoude tekst en vormt
  de kern van het grote Indiase epos\,  de Mahabharata. De boodschap\,  die 
 hierin door Sri Krishna aan zijn vriend en leerling Arjuna uiteengezet word
 t is in deze tijd nog even actueel als eeuwen geleden. Voor velen vormt het
  een bron[..]\nhttps://filosofieenmeditatie.nl/events/de-bhagavad-gita-over
 -het-mysterie-van-handelingen/
URL:https://filosofieenmeditatie.nl/events/de-bhagavad-gita-over-het-mysterie-van-handelingen/
END:VEVENT
END:VCALENDAR