BEGIN:VCALENDAR
VERSION:2.0
PRODID:-//eventon.com NONSGML v1.0//EN
CALSCALE:GREGORIAN
METHOD:PUBLISH
BEGIN:VEVENT
UID:69eaf91a91f4e
DTSTAMP:20260424T050114Z
DTSTART:20180927T093000Z
DTEND:20180927T120000Z
LOCATION:
SUMMARY:start Ontmoetings/Uitwisselingsgroep "Aurora"
DESCRIPTION:Op donderdagochtenden\,  vanaf 27 september start de ouderengro
 ep &#8220;Aurora&#8221;.  Ouderen van bóven de zestig die in goed gezelsc
 hap samen deze dageraad\,  het opgaande licht willen zoeken\,  vinden\,  on
 derhouden en naar buiten brengen zijn worden hiervoor van harte uitgenodigd
 ! Juist in deze roerige tijden èn de herfst / winter van ons[..]\nhttps://
 filosofieenmeditatie.nl/events/ontmoetings-uitwisselingsgroep-aurora/
URL:https://filosofieenmeditatie.nl/events/ontmoetings-uitwisselingsgroep-aurora/
END:VEVENT
END:VCALENDAR