BEGIN:VCALENDAR
VERSION:2.0
PRODID:-//eventon.com NONSGML v1.0//EN
CALSCALE:GREGORIAN
METHOD:PUBLISH
BEGIN:VEVENT
UID:69eae1d43b92a
DTSTAMP:20260424T032156Z
DTSTART:20181002T153000Z
DTEND:20181002T164500Z
LOCATION:
SUMMARY:Mindfulness voor kinderen (8-10 jaar)
DESCRIPTION:De maatschappij en vooral het onderwijs is steeds aan veranderi
 ng onderhevig\,  er wordt veel van kinderen verwacht en we leiden ze op voo
 r banen die nog niet bestaan. De druk op kinderen is best hoog. Het is fijn
  om in deze maatschappij de kinderen iets mee te geven wat ze[..]\nhttps://
 filosofieenmeditatie.nl/events/mindfulness-voor-kinderen-8-10-jaar/
URL:https://filosofieenmeditatie.nl/events/mindfulness-voor-kinderen-8-10-jaar/
END:VEVENT
END:VCALENDAR