BEGIN:VCALENDAR
VERSION:2.0
PRODID:-//eventon.com NONSGML v1.0//EN
CALSCALE:GREGORIAN
METHOD:PUBLISH
BEGIN:VEVENT
UID:69e8efd99e3c7
DTSTAMP:20260422T155713Z
DTSTART:20181027T093000Z
DTEND:20181027T190000Z
LOCATION:De Cynham\,  Egmond aan den Hoef Herenweg 270
SUMMARY:Terugkomdag Retraite Ontwikkel je zelf verder\,  the NEXT STEP mei 2018
DESCRIPTION:Deze terugkomdag is bedoeld voor de deelnemers van de retraite 
 Ontwikkel je zelf verder\,  the NEXT STEP die in mei in Brognon gehouden is
 . Het wordt een boeiende dag waar we kunnen kijken wat er in praktijk is ge
 bracht en wat er nodig is om een volgende stap te zetten.[..]\nhttps://filo
 sofieenmeditatie.nl/events/terugkomdag-retraite-ontwikkel-je-zelf-verder-th
 e-next-step-mei-2018/
URL:https://filosofieenmeditatie.nl/events/terugkomdag-retraite-ontwikkel-je-zelf-verder-the-next-step-mei-2018/
END:VEVENT
END:VCALENDAR