BEGIN:VCALENDAR
VERSION:2.0
PRODID:-//eventon.com NONSGML v1.0//EN
CALSCALE:GREGORIAN
METHOD:PUBLISH
BEGIN:VEVENT
UID:69e8d8d6a74da
DTSTAMP:20260422T141902Z
DTSTART:20190216T093000Z
DTEND:20190216T190000Z
LOCATION:De Cynham\,  Egmond aan den Hoef Herenweg 270
SUMMARY:Terugkomdag Retraite Ontwikkel je zelf verder\,  the NEXT STEP september 2018
DESCRIPTION:Deze terugkomdag is bedoeld voor de deelnemers van de retraite 
 Ontwikkel je zelf verder\,  the NEXT STEP die in september in Brognon geho
 uden is. Het wordt een boeiende dag waar we kunnen kijken wat er in praktij
 k is gebracht en wat er nodig is om een volgende stap te zetten. We[..]\nht
 tps://filosofieenmeditatie.nl/events/terugkomdag-retraite-ontwikkel-je-zelf
 -verder-the-next-step-september-2018/
URL:https://filosofieenmeditatie.nl/events/terugkomdag-retraite-ontwikkel-je-zelf-verder-the-next-step-september-2018/
END:VEVENT
END:VCALENDAR