BEGIN:VCALENDAR
VERSION:2.0
PRODID:-//eventon.com NONSGML v1.0//EN
CALSCALE:GREGORIAN
METHOD:PUBLISH
BEGIN:VEVENT
UID:69e8a77976b41
DTSTAMP:20260422T104825Z
DTSTART:20190406T090000Z
DTEND:20190407T160000Z
LOCATION:De Cynham\,  Egmond aan den Hoef Herenweg 270
SUMMARY:Weekend Leerweg Verdiepingsgroep
DESCRIPTION:Voor de deelnemers aan de Verdiepingsgroep van de Leerweg Fil
 osofie en Meditatie zijn de volgende zaterdagochtenden en een weekend gepla
 nd: Studieweekend 6-7 april 2019\nhttps://filosofieenmeditatie.nl/events/we
 ekend-leerweg-verdiepingsgroep-copy/
URL:https://filosofieenmeditatie.nl/events/weekend-leerweg-verdiepingsgroep-copy/
END:VEVENT
END:VCALENDAR