BEGIN:VCALENDAR
VERSION:2.0
PRODID:-//eventon.com NONSGML v1.0//EN
CALSCALE:GREGORIAN
METHOD:PUBLISH
BEGIN:VEVENT
UID:69e5c81720f89
DTSTAMP:20260420T063047Z
DTSTART:20190915T160000Z
DTEND:20190921T140000Z
LOCATION:Retraitecentrum Le Domaine St. Antoine\,  Brognon\,  Noord-Frankrijk Rue de la rivière 22  08380 Brognon\,  Frankrijk
SUMMARY:Retraite Ontwikkel je zelf verder\,  the NEXT LEVEL
DESCRIPTION:THE NEXT LEVEL retraite is voor jou bedoeld als je toe bent aan
  een grote stap of &#8216;sprong&#8217; in je leven. Je wilt iets &#8216;n
 ieuws&#8217; en een nieuwe dimensie toevoegen aan je carrière of je persoo
 nlijk leven. Bijvoorbeeld omdat je toe bent aan een nieuwe baan. Of twijfel
 t over een nieuwe[..]\nhttps://filosofieenmeditatie.nl/events/retraite-ontw
 ikkel-je-zelf-verder-the-next-level-2/
URL:https://filosofieenmeditatie.nl/events/retraite-ontwikkel-je-zelf-verder-the-next-level-2/
END:VEVENT
END:VCALENDAR