BEGIN:VCALENDAR
VERSION:2.0
PRODID:-//eventon.com NONSGML v1.0//EN
CALSCALE:GREGORIAN
METHOD:PUBLISH
BEGIN:VEVENT
UID:69e5b111d0481
DTSTAMP:20260420T045233Z
DTSTART:20190714T160000Z
DTEND:20190720T140000Z
LOCATION:Retraitecentrum Le Domaine St. Antoine\,  Brognon\,  Noord-Frankrijk Rue de la rivière 22  08380 Brognon\,  Frankrijk
SUMMARY:Familieweek
DESCRIPTION:Deze retraite is voor gezinnen die tot rust willen komen en ver
 dieping zoeken in een mooie omgeving. Kinderen en ouders volgen ’s morge
 ns elk een eigen programma. De kinderen luisteren naar verhalen met een fil
 osofische kant. Ze doen stilte- en concentratieoefeningetjes en ze uiten zi
 chzelf door zang\,  sport\,  spel en eventueel[..]\nhttps://filosofieenmedi
 tatie.nl/events/familieweek-2/
URL:https://filosofieenmeditatie.nl/events/familieweek-2/
END:VEVENT
END:VCALENDAR