BEGIN:VCALENDAR
VERSION:2.0
PRODID:-//eventon.com NONSGML v1.0//EN
CALSCALE:GREGORIAN
METHOD:PUBLISH
BEGIN:VEVENT
UID:69e597b684e37
DTSTAMP:20260420T030422Z
DTSTART:20190811T160000Z
DTEND:20190817T140000Z
LOCATION:Retraitecentrum Le Domaine St. Antoine\,  Brognon\,  Noord-Frankrijk Rue de la rivière 22  08380 Brognon\,  Frankrijk
SUMMARY:Retraite Verdiepingsgroep
DESCRIPTION:Deze retraite is voor deelnemers aan de Leerweg Verdiepingsgroe
 p van de SFM. We gaan een begin maken met het bestuderen van de Mahabharata
 . Deze enorme verzameling verhalen nodigt ons ook uit contact te leren make
 n met het verhaal achter het verhaal. We leren te kijken voorbij wat we zie
 n of[..]\nhttps://filosofieenmeditatie.nl/events/retraite-verdiepingsgroep/
URL:https://filosofieenmeditatie.nl/events/retraite-verdiepingsgroep/
END:VEVENT
END:VCALENDAR