BEGIN:VCALENDAR
VERSION:2.0
PRODID:-//eventon.com NONSGML v1.0//EN
CALSCALE:GREGORIAN
METHOD:PUBLISH
BEGIN:VEVENT
UID:69e59729898d7
DTSTAMP:20260420T030201Z
DTSTART:20190518T090000Z
DTEND:20190518T120000Z
LOCATION:De Cynham\,  Egmond aan den Hoef Herenweg 270
SUMMARY:Studieochtend Leerweg Verdiepingsgroep
DESCRIPTION:Voor de deelnemers aan de Verdiepingsgroep van de Leerweg Fil
 osofie en Meditatie zijn de volgende zaterdagochtenden en een weekend gepla
 nd: 18 mei 2019 15 juni 2019 Retraiteweek 11-17 augustus 2019\nhttps://filo
 sofieenmeditatie.nl/events/studieochtend-leerweg-verdiepingsgroep-4/
URL:https://filosofieenmeditatie.nl/events/studieochtend-leerweg-verdiepingsgroep-4/
END:VEVENT
END:VCALENDAR