BEGIN:VCALENDAR
VERSION:2.0
PRODID:-//eventon.com NONSGML v1.0//EN
CALSCALE:GREGORIAN
METHOD:PUBLISH
BEGIN:VEVENT
UID:69e564ba07bf6
DTSTAMP:20260419T232650Z
DTSTART:20191005T090000Z
DTEND:20191005T120000Z
LOCATION:De Cynham\,  Egmond aan den Hoef Herenweg 270
SUMMARY:Studieochtend Leerweg Verdiepingsgroep
DESCRIPTION:Voor de deelnemers aan de Verdiepingsgroep van de Leerweg Fil
 osofie en Meditatie zijn de volgende zaterdagochtenden en weekenden gepland
 : 5 oktober 2019 26 oktober 2019 25 januari 2020 29 februari 2020 25 april 
 2020 Retraiteweekenden 30 november -1 december 2019 28 &#8211; 29 maart 202
 0\nhttps://filosofieenmeditatie.nl/events/studieochtend-leerweg-verdiepings
 groep-5/
URL:https://filosofieenmeditatie.nl/events/studieochtend-leerweg-verdiepingsgroep-5/
END:VEVENT
END:VCALENDAR