BEGIN:VCALENDAR
VERSION:2.0
PRODID:-//eventon.com NONSGML v1.0//EN
CALSCALE:GREGORIAN
METHOD:PUBLISH
BEGIN:VEVENT
UID:69e54c55e86d3
DTSTAMP:20260419T214245Z
DTSTART:20190818T160000Z
DTEND:20190824T140000Z
LOCATION:Retraitecentrum Le Domaine St. Antoine\,  Brognon\,  Noord-Frankrijk Rue de la rivière 22  08380 Brognon\,  Frankrijk
SUMMARY:Filosofie-retraite: 'Wat maakt het zo moeilijk om een harmonieus mens te zijn'?
DESCRIPTION:Veel mensen dromen van een harmonieuzer leven waarin ze de ding
 en doen die bij hun aard passen en waarin ze hun bestemming volgen. Ze voel
 en dat hun huidige situatie niet voldoet\,  maar ervaren diverse hinderniss
 en bij het komen tot een mooier leven. Hoe ze in de gewenste situatie kunne
 n komen\, [..]\nhttps://filosofieenmeditatie.nl/events/filosofie-retraite-w
 at-maakt-het-zo-moeilijk-om-een-harmonieus-mens-te-zijn/
URL:https://filosofieenmeditatie.nl/events/filosofie-retraite-wat-maakt-het-zo-moeilijk-om-een-harmonieus-mens-te-zijn/
END:VEVENT
END:VCALENDAR