BEGIN:VCALENDAR
VERSION:2.0
PRODID:-//eventon.com NONSGML v1.0//EN
CALSCALE:GREGORIAN
METHOD:PUBLISH
BEGIN:VEVENT
UID:69e53569042b6
DTSTAMP:20260419T200457Z
DTSTART:20190721T160000Z
DTEND:20190727T140000Z
LOCATION:Retraitecentrum Le Domaine St. Antoine\,  Brognon\,  Noord-Frankrijk Rue de la rivière 22  08380 Brognon\,  Frankrijk
SUMMARY:Retraite Zang\,  dans en bezinning
DESCRIPTION:Zang en dans ontspannen niet alleen\,  maar leiden de mens al d
 uizenden jaren lang naar diepere lagen in zichzelf. Dans bijvoorbeeld kan h
 eel goed een meditatieve vorm aannemen. In deze retraite worden de wonderli
 jke\,  vitaliserende eigenschappen van muziek en beweging uitgeprobeerd en 
 verbonden aan filosofie. Dit jaar hebben we gekozen[..]\nhttps://filosofiee
 nmeditatie.nl/events/retraite-zang-dans-en-bezinning/
URL:https://filosofieenmeditatie.nl/events/retraite-zang-dans-en-bezinning/
END:VEVENT
END:VCALENDAR