BEGIN:VCALENDAR
VERSION:2.0
PRODID:-//eventon.com NONSGML v1.0//EN
CALSCALE:GREGORIAN
METHOD:PUBLISH
BEGIN:VEVENT
UID:69e52225909aa
DTSTAMP:20260419T184245Z
DTSTART:20190222T170000Z
DTEND:20190224T153000Z
LOCATION:De Cynham\,  Egmond aan den Hoef Herenweg 270
SUMMARY:Gezinsweekend
DESCRIPTION:Hoe kunnen ouders hun kinderen helpen bij de voorbereiding op e
 en leven waarin zij zich ten volle kunnen ontplooien? Wijsheid over het opv
 oeden is te vinden bij filosofen uit verschillende tijdperken en culturen. 
 Ze vormt de grondslag van een programma waarmee de SFM al enkele jaren oude
 rs weet te inspireren[..]\nhttps://filosofieenmeditatie.nl/events/gezinswee
 kend/
URL:https://filosofieenmeditatie.nl/events/gezinsweekend/
END:VEVENT
END:VCALENDAR