BEGIN:VCALENDAR
VERSION:2.0
PRODID:-//eventon.com NONSGML v1.0//EN
CALSCALE:GREGORIAN
METHOD:PUBLISH
BEGIN:VEVENT
UID:69e50c263b3ee
DTSTAMP:20260419T170854Z
DTSTART:20190616T160000Z
DTEND:20190622T140000Z
LOCATION:Retraitecentrum Le Domaine St. Antoine\,  Brognon\,  Noord-Frankrijk Rue de la rivière 22  08380 Brognon\,  Frankrijk
SUMMARY:Retraite Het dagelijks leven als weg van zelfontwikkeling
DESCRIPTION:Het is mogelijk ons dagelijks leven te ervaren als een weg van 
 zelfontwikkeling. Zelfs de meest gewone beslommeringen kunnen een rol spele
 n op dit pad. In de hindoeïstische traditie wordt deze ervaring niet minde
 r dan een ‘yoga’ genoemd en het Indiase filosofische boek Bhagavad Gita
  beschrijft dan ook vele facetten[..]\nhttps://filosofieenmeditatie.nl/even
 ts/retraite-het-dagelijks-leven-als-weg-van-zelfontwikkeling/
URL:https://filosofieenmeditatie.nl/events/retraite-het-dagelijks-leven-als-weg-van-zelfontwikkeling/
END:VEVENT
END:VCALENDAR