BEGIN:VCALENDAR
VERSION:2.0
PRODID:-//eventon.com NONSGML v1.0//EN
CALSCALE:GREGORIAN
METHOD:PUBLISH
BEGIN:VEVENT
UID:69e5350b64f99
DTSTAMP:20260419T200323Z
DTSTART:20190309T100000Z
DTEND:20190309T120000Z
LOCATION:
SUMMARY:Bodywork groep
DESCRIPTION:Dze bijeenkomst is voor de bodywork groep Programma is bekend. 
 Voor deze activiteit kan je je niet inschrijven Tel. 072-5070 760 Email: in
 fo@filosofieenmeditatie.nl\nhttps://filosofieenmeditatie.nl/events/bodywork
 -groep-2/
URL:https://filosofieenmeditatie.nl/events/bodywork-groep-2/
END:VEVENT
END:VCALENDAR