BEGIN:VCALENDAR
VERSION:2.0
PRODID:-//eventon.com NONSGML v1.0//EN
CALSCALE:GREGORIAN
METHOD:PUBLISH
BEGIN:VEVENT
UID:69e51e8157f8d
DTSTAMP:20260419T182713Z
DTSTART:20190413T100000Z
DTEND:20190413T120000Z
LOCATION:
SUMMARY:Bodywork groep
DESCRIPTION:Dze bijeenkomst is voor de bodywork groep Programma is bekend. 
 Voor deze activiteit kan je je niet inschrijven Tel. 072-5070 760 Email: in
 fo@filosofieenmeditatie.nl\nhttps://filosofieenmeditatie.nl/events/bodywork
 -groep-3/
URL:https://filosofieenmeditatie.nl/events/bodywork-groep-3/
END:VEVENT
END:VCALENDAR