BEGIN:VCALENDAR
VERSION:2.0
PRODID:-//eventon.com NONSGML v1.0//EN
CALSCALE:GREGORIAN
METHOD:PUBLISH
BEGIN:VEVENT
UID:69e50757a788b
DTSTAMP:20260419T164823Z
DTSTART:20190901T160000Z
DTEND:20190907T140000Z
LOCATION:Retraitecentrum Le Domaine St. Antoine\,  Brognon\,  Noord-Frankrijk Rue de la rivière 22  08380 Brognon\,  Frankrijk
SUMMARY:SPFZ Zomerweek 'De Mens\,  Meester van zijn Lot'
DESCRIPTION:SPFZ Zomerweek &#8216;De Mens\,  Meester van zijn Lot&#8217; De
 ze week wordt georganiseerd door de Stichting voor Praktische Filosofie Zee
 land Voor nadere informatie\,  zie www.spfz.nl of peter.stoop@gmail.com\,  
 tel. 0633041366 &nbsp;\nhttps://filosofieenmeditatie.nl/events/spfz-zomerwe
 ek-de-mens-meester-van-zijn-lot/
URL:https://filosofieenmeditatie.nl/events/spfz-zomerweek-de-mens-meester-van-zijn-lot/
END:VEVENT
END:VCALENDAR