BEGIN:VCALENDAR
VERSION:2.0
PRODID:-//eventon.com NONSGML v1.0//EN
CALSCALE:GREGORIAN
METHOD:PUBLISH
BEGIN:VEVENT
UID:69e4ed774f0f8
DTSTAMP:20260419T145759Z
DTSTART:20190309T090000Z
DTEND:20190309T160000Z
LOCATION:De Cynham\,  Egmond aan den Hoef Herenweg 270
SUMMARY:Studiedag Tripura Rahasya
DESCRIPTION:Tripura Rahasya is een zeer oud Indiaas boek. Het staat bekend 
 om zijn pakkende en eenvoudige verhalen. Toch worden de meest verheven onde
 rwerpen uit de Indiase Vedanta besproken. Het is dus ook een filosofisch we
 rk.  Men zegt wel dat het luisteren naar de Tripura Rahasya is ‘als het 
 stappen in[..]\nhttps://filosofieenmeditatie.nl/events/studiedag-tripura-ra
 hasya/
URL:https://filosofieenmeditatie.nl/events/studiedag-tripura-rahasya/
END:VEVENT
END:VCALENDAR