BEGIN:VCALENDAR
VERSION:2.0
PRODID:-//eventon.com NONSGML v1.0//EN
CALSCALE:GREGORIAN
METHOD:PUBLISH
BEGIN:VEVENT
UID:69e4d8fd9dbfd
DTSTAMP:20260419T133037Z
DTSTART:20190323T090000Z
DTEND:20190323T160000Z
LOCATION:De Cynham\,  Egmond aan den Hoef Herenweg 270
SUMMARY:Studiedag Een moderne kijk op het Achtvoudige Pad van de Boeddha
DESCRIPTION:Ons leven is hectisch en stressvol en we hebben weinig tijd. Ve
 el mensen zijn wel geïnteresseerd in menselijke ontwikkeling\,  maar vinde
 n de meeste filosofische systemen die hierover gaan te moeilijk. Een ideaal
  systeem dat heel goed past bij onze moderne manier van leven\,  is het Ach
 tvoudig Pad van de Boeddha.[..]\nhttps://filosofieenmeditatie.nl/events/stu
 diedag-een-moderne-kijk-op-het-achtvoudige-pad-van-de-boeddha/
URL:https://filosofieenmeditatie.nl/events/studiedag-een-moderne-kijk-op-het-achtvoudige-pad-van-de-boeddha/
END:VEVENT
END:VCALENDAR