BEGIN:VCALENDAR
VERSION:2.0
PRODID:-//eventon.com NONSGML v1.0//EN
CALSCALE:GREGORIAN
METHOD:PUBLISH
BEGIN:VEVENT
UID:69e4d8d130666
DTSTAMP:20260419T132953Z
DTSTART:20190420T090000Z
DTEND:20190420T160000Z
LOCATION:De Cynham\,  Egmond aan den Hoef Herenweg 270
SUMMARY:Meditatie en het verwerken van verdriet en pijn
DESCRIPTION:Meditatie is heel effectief bij het verwerken van groot verdrie
 t en pijn. Dat ligt in de natuur van de meditatie zelf besloten. Daar kijk 
 je immers in stilte toe op de bewegingen van de geest zonder je te binden a
 an wat je ervaart. Zoals in meditatie gedachten en gevoelens komen[..]\nhtt
 ps://filosofieenmeditatie.nl/events/5632/
URL:https://filosofieenmeditatie.nl/events/5632/
END:VEVENT
END:VCALENDAR