BEGIN:VCALENDAR
VERSION:2.0
PRODID:-//eventon.com NONSGML v1.0//EN
CALSCALE:GREGORIAN
METHOD:PUBLISH
BEGIN:VEVENT
UID:69e4d8da3a59d
DTSTAMP:20260419T133002Z
DTSTART:20190804T160000Z
DTEND:20190810T140000Z
LOCATION:Retraitecentrum Le Domaine St. Antoine\,  Brognon\,  Noord-Frankrijk Rue de la rivière 22  08380 Brognon\,  Frankrijk
SUMMARY:Retraite Ontspanning\,  Concentratie en Meditatie: het Enneagram
DESCRIPTION:De zomerretraites zijn één van de hoogtepunten die de SFM org
 aniseert. Deze retraite bestaat uit een combinatie van filosofie\,  meditat
 ie en lichaamswerk. Het is een retraite om even helemaal tot rust te komen 
 en in je ‘eigen spiegel’ te kijken. Ontspanning hoort aan de basis te l
 iggen aan ieder werk.[..]\nhttps://filosofieenmeditatie.nl/events/retraite-
 ontspanning-concentratie-en-meditatie-het-enneagram-copy/
URL:https://filosofieenmeditatie.nl/events/retraite-ontspanning-concentratie-en-meditatie-het-enneagram-copy/
END:VEVENT
END:VCALENDAR