BEGIN:VCALENDAR
VERSION:2.0
PRODID:-//eventon.com NONSGML v1.0//EN
CALSCALE:GREGORIAN
METHOD:PUBLISH
BEGIN:VEVENT
UID:69e4ed1126125
DTSTAMP:20260419T145617Z
DTSTART:20190303T090000Z
DTEND:20190303T190000Z
LOCATION:De Cynham\,  Egmond aan den Hoef Herenweg 270
SUMMARY:Koken met Rumi
DESCRIPTION:We kennen de soefi Rumi van zijn diepe en warme gedichten. Wie 
 zou hem met koken associëren? Toch vroeg hij zijn leerlingen 1001 dagen in
  de keuken te staan\,  oog in oog met de transformerende kracht van het vuu
 r. Daar leerden ze hoe een maaltijd je kan voeden in ‘de[..]\nhttps://fil
 osofieenmeditatie.nl/events/koken-met-rumi-copy-2/
URL:https://filosofieenmeditatie.nl/events/koken-met-rumi-copy-2/
END:VEVENT
END:VCALENDAR