BEGIN:VCALENDAR
VERSION:2.0
PRODID:-//eventon.com NONSGML v1.0//EN
CALSCALE:GREGORIAN
METHOD:PUBLISH
BEGIN:VEVENT
UID:69e50832ecddb
DTSTAMP:20260419T165202Z
DTSTART:20190501T160000Z
DTEND:20190505T110000Z
LOCATION:Retraitecentrum Le Domaine St. Antoine\,  Brognon\,  Noord-Frankrijk Rue de la rivière 22  08380 Brognon\,  Frankrijk
SUMMARY:Vrijwilligersproject: groot onderhoud aan het Chalet in Brognon
DESCRIPTION:Er is groot onderhoud nodig aan het Chalet in Brognon. Vorig ja
 ar zijn aangetaste balken aan de zuidzijde al aangepakt\,  maar nu moet het
  in 2008 gebouwde chalet echt helemaal onder handen worden genomen: het moe
 t worden geschuurd en opnieuw geïmpregneerd. Wil jij\,  onder deskundige l
 eiding\,  meehelpen met deze klus?[..]\nhttps://filosofieenmeditatie.nl/eve
 nts/vrijwilligersproject-groot-onderhoud-aan-het-chalet-in-brognon/
URL:https://filosofieenmeditatie.nl/events/vrijwilligersproject-groot-onderhoud-aan-het-chalet-in-brognon/
END:VEVENT
END:VCALENDAR