BEGIN:VCALENDAR
VERSION:2.0
PRODID:-//eventon.com NONSGML v1.0//EN
CALSCALE:GREGORIAN
METHOD:PUBLISH
BEGIN:VEVENT
UID:69e51e815a37a
DTSTAMP:20260419T182713Z
DTSTART:20190525T090000Z
DTEND:20190525T160000Z
LOCATION:De Cynham\,  Egmond aan den Hoef Herenweg 270
SUMMARY:Studiedag Concentratie\,  Meditatie en Samâdhi
DESCRIPTION:Als je mediteert\,  begrijp je dat concentratie belangrijk is. 
 De geest richt zich op één punt. Als je afgeleid wordt\,  keer je weer te
 rug tot de geconcentreerde aandacht. Als deze concentratie onafgebroken wor
 dt\,  spreken we van meditatie. Eigenlijk gaat concentratie aan de meditati
 e vooraf. Maar er kan ook nog een[..]\nhttps://filosofieenmeditatie.nl/even
 ts/studiedag-concentratie-meditatie-en-samadhi/
URL:https://filosofieenmeditatie.nl/events/studiedag-concentratie-meditatie-en-samadhi/
END:VEVENT
END:VCALENDAR