BEGIN:VCALENDAR
VERSION:2.0
PRODID:-//eventon.com NONSGML v1.0//EN
CALSCALE:GREGORIAN
METHOD:PUBLISH
BEGIN:VEVENT
UID:69e535b6a1776
DTSTAMP:20260419T200614Z
DTSTART:20190605T200000Z
DTEND:20190605T213000Z
LOCATION:De Cynham\,  Egmond aan den Hoef Herenweg 270
SUMMARY:Qi gong
DESCRIPTION:Qi gong maakt gebruik van eenvoudige lichaamsbewegingen om lich
 aam en geest beter in balans te brengen. Net als het bekende Tai Chi\,  wil
  deze Chinese traditie verschillende soorten energieën verkennen. Ademhali
 ng en concentratie kunnen erdoor verbeteren. De oefeningen passen bij jouw 
 lijf\,  ongeacht of dit beginnend\,  gevorderd of beperkt is.[..]\nhttps://
 filosofieenmeditatie.nl/events/qi-gong-8/
URL:https://filosofieenmeditatie.nl/events/qi-gong-8/
END:VEVENT
END:VCALENDAR