BEGIN:VCALENDAR
VERSION:2.0
PRODID:-//eventon.com NONSGML v1.0//EN
CALSCALE:GREGORIAN
METHOD:PUBLISH
BEGIN:VEVENT
UID:69e54c820eee5
DTSTAMP:20260419T214330Z
DTSTART:20190601T090000Z
DTEND:20190601T160000Z
LOCATION:De Cynham\,  Egmond aan den Hoef Herenweg 270
SUMMARY:De hogere staten van bewustzijn
DESCRIPTION:De bewustzijnsstaten die wij kennen\,  zijn: diepe slaap\,  dro
 men en waken. De wakende staat ervaren wij als de ‘echte’ staat. Het nu
 t en de functie van de droomstaat en de diepe slaap\,  blijven een beetje v
 aag. We weten wel dat wij slaap nodig hebben – net als de meeste wezens[.
 .]\nhttps://filosofieenmeditatie.nl/events/de-hogere-staten-van-bewustzijn/
URL:https://filosofieenmeditatie.nl/events/de-hogere-staten-van-bewustzijn/
END:VEVENT
END:VCALENDAR