BEGIN:VCALENDAR
VERSION:2.0
PRODID:-//eventon.com NONSGML v1.0//EN
CALSCALE:GREGORIAN
METHOD:PUBLISH
BEGIN:VEVENT
UID:69e56097b512e
DTSTAMP:20260419T230911Z
DTSTART:20190329T160000Z
DTEND:20190331T133000Z
LOCATION:Retraitecentrum Le Domaine St. Antoine\,  Brognon\,  Noord-Frankrijk Rue de la rivière 22  08380 Brognon\,  Frankrijk
SUMMARY:Meditatieweekend Maha Mrityunjaya mantra in Brognon
DESCRIPTION:Deze mantra is bijzonder krachtig en wordt heden ten dage in ee
 n groot deel van India nog steeds gebruikt\,  onafhankelijk van welke schoo
 l. De reden hiervoor is de enorme kracht. De mantra wordt gebruikt voor vre
 de of om zegen te vragen aan het begin van een grote onderneming. Het is[..
 ]\nhttps://filosofieenmeditatie.nl/events/meditatieweekend-maha-mrityunjaya
 -mantra-in-brognon/
URL:https://filosofieenmeditatie.nl/events/meditatieweekend-maha-mrityunjaya-mantra-in-brognon/
END:VEVENT
END:VCALENDAR